BEGIN:VCALENDAR
VERSION:2.0
PRODID:-//Max 93.1 - ECPv4.6.26//NONSGML v1.0//EN
CALSCALE:GREGORIAN
METHOD:PUBLISH
X-WR-CALNAME:Max 93.1
X-ORIGINAL-URL:https://max931.ca
X-WR-CALDESC:Events for Max 93.1
BEGIN:VEVENT
DTSTART;TZID=America/Halifax:20220824T080000
DTEND;TZID=America/Halifax:20220828T170000
DTSTAMP:20260422T100124
CREATED:20220725T141619Z
LAST-MODIFIED:20220725T142638Z
UID:9250-1661328000-1661706000@max931.ca
SUMMARY:80th Provincial Plowing Match & Agricultural Fair
DESCRIPTION:\n\nDundas\, PE\nContact Us:\n902-583-2723\ndundasplowingmatch@pei.aibn.com\n  \nPEI Provincal Plowing Match and Agriculture Fair. August 26-28th.\n( Dundas Plowing Match)\nCome Feed your Country Soul!\nhttps://youtu.be/EVbjMF9iMbk\n  \n
URL:https://max931.ca/event/80th-provincial-plowing-match-agricultural-fair/
CATEGORIES:Festivals
END:VEVENT
END:VCALENDAR