BEGIN:VCALENDAR
VERSION:2.0
PRODID:-//Max 93.1 - ECPv4.6.26//NONSGML v1.0//EN
CALSCALE:GREGORIAN
METHOD:PUBLISH
X-WR-CALNAME:Max 93.1
X-ORIGINAL-URL:https://max931.ca
X-WR-CALDESC:Events for Max 93.1
BEGIN:VEVENT
DTSTART;TZID=America/Halifax:20210725T130000
DTEND;TZID=America/Halifax:20210725T160000
DTSTAMP:20260423T214036
CREATED:20210719T151347Z
LAST-MODIFIED:20210719T151347Z
UID:8613-1627218000-1627228800@max931.ca
SUMMARY:Cascumpec Bay Watershed Association Boat Poker Run
DESCRIPTION:Cascumpec Bay Watershed Association will be holding a BOAT POKER RUN on Sunday\, July 25th. 1pm to 4pm. There will be 5 poker card stations set up at various docks from Alberton Harbour to Mill River. $10 per poker hand. This event is a fundraiser for fish habitat and stream enhancement projects in the area. Line up your friends and fill a boat for a fun afternoon of boating and poker. Prizes will be awarded to the 3 top poker hands\, as well as door prizes and 50/50. For more information you can contact us at cascumpecbayWS@hotmail.com \n
URL:https://max931.ca/event/cascumpec-bay-watershed-association-boat-poker-run/
END:VEVENT
END:VCALENDAR