BEGIN:VCALENDAR
VERSION:2.0
PRODID:-//Max 93.1 - ECPv4.6.26//NONSGML v1.0//EN
CALSCALE:GREGORIAN
METHOD:PUBLISH
X-WR-CALNAME:Max 93.1
X-ORIGINAL-URL:https://max931.ca
X-WR-CALDESC:Events for Max 93.1
BEGIN:VEVENT
DTSTART;TZID=America/Halifax:20210920T190000
DTEND;TZID=America/Halifax:20210920T190000
DTSTAMP:20260421T024049
CREATED:20210831T132338Z
LAST-MODIFIED:20210831T132338Z
UID:8736-1632164400-1632164400@max931.ca
SUMMARY:Ceilidh at Winsloe Lions Hall
DESCRIPTION:Ceilidh at Winsloe Lions Hall Monday September 20th starting at 7:00 pm\,  will feature special guest appearance by Keelin Wedge and first time performer to our Ceilidh Melvin Ford\, they will be joined by Brian Langille\, Brian Knox and Judy Lowe.   There will be a 50/50 draw and canteen service.    Admission is at the door which opens at 6:00 pm.    If you wish to reserve your ticket you can call 902-940-1217 or 902-894-9901.   We are allowed 100 as per Covid restrictions. \n
URL:https://max931.ca/event/ceilidh-at-winsloe-lions-hall-6/
END:VEVENT
END:VCALENDAR