BEGIN:VCALENDAR
VERSION:2.0
PRODID:-//Max 93.1 - ECPv4.6.26//NONSGML v1.0//EN
CALSCALE:GREGORIAN
METHOD:PUBLISH
X-WR-CALNAME:Max 93.1
X-ORIGINAL-URL:https://max931.ca
X-WR-CALDESC:Events for Max 93.1
BEGIN:VEVENT
DTSTART;TZID=America/Halifax:20161218T190000
DTEND;TZID=America/Halifax:20161218T200000
DTSTAMP:20260422T101239
CREATED:20161205T185109Z
LAST-MODIFIED:20161205T185109Z
UID:484-1482087600-1482091200@max931.ca
SUMMARY:Christmas Concert
DESCRIPTION:Please join Kelley Mooney and her friends for a Christmas Concert at St. John’s Anglican Church in Milton\, PEI. Joining Kelley for a lovely evening of Christmas songs and good cheer are Jon Matthews\, Peter Burke\, Brian Knox\, Heartz Godkin and special guest – Kendall Docherty! \nChristmas can be a tough time of year for some\, so we invite you to bring along some non-perishable food items for the local food bank for those who may be struggling at this time of year. \n
URL:https://max931.ca/event/christmas-concert/
LOCATION:St. John’s Anglican Church\, PEI\, Canada
GEO:46.510712;-63.4168136
END:VEVENT
END:VCALENDAR