BEGIN:VCALENDAR
VERSION:2.0
PRODID:-//Max 93.1 - ECPv4.6.26//NONSGML v1.0//EN
CALSCALE:GREGORIAN
METHOD:PUBLISH
X-WR-CALNAME:Max 93.1
X-ORIGINAL-URL:https://max931.ca
X-WR-CALDESC:Events for Max 93.1
BEGIN:VEVENT
DTSTART;TZID=America/Halifax:20181208T210000
DTEND;TZID=America/Halifax:20181208T210000
DTSTAMP:20260421T111442
CREATED:20181206T141149Z
LAST-MODIFIED:20181206T141149Z
UID:5240-1544302800-1544302800@max931.ca
SUMMARY:Christmas Dance
DESCRIPTION:Hillsborough Park Community Centre. $10.00 per person.. 50/50 and Door Prizes. 9 p.m. – 12 Midnight Music by Phase II \n
URL:https://max931.ca/event/christmas-dance/
END:VEVENT
END:VCALENDAR