BEGIN:VCALENDAR
VERSION:2.0
PRODID:-//Max 93.1 - ECPv4.6.26//NONSGML v1.0//EN
CALSCALE:GREGORIAN
METHOD:PUBLISH
X-WR-CALNAME:Max 93.1
X-ORIGINAL-URL:https://max931.ca
X-WR-CALDESC:Events for Max 93.1
BEGIN:VEVENT
DTSTART;TZID=America/Halifax:20210326T210000
DTEND;TZID=America/Halifax:20210326T220000
DTSTAMP:20260422T084946
CREATED:20200624T134646Z
LAST-MODIFIED:20210316T115808Z
UID:8217-1616792400-1616796000@max931.ca
SUMMARY:Classic Albums Top To Bottom - THE CARS
DESCRIPTION:Tonight at 9:00\, we’re playing this classic album in its entirety… \nTOP TO BOTTOM! \nHear it the way it was meant to be heard\, tonight! \n
URL:https://max931.ca/event/classic-albums-top-to-bottom-the-cars/
CATEGORIES:Album,Station Events
ATTACH;FMTTYPE=image/jpeg:https://max931.ca/wp-content/uploads/sites/23/2021/02/37455a_med.jpeg
END:VEVENT
END:VCALENDAR