BEGIN:VCALENDAR
VERSION:2.0
PRODID:-//Max 93.1 - ECPv4.6.26//NONSGML v1.0//EN
CALSCALE:GREGORIAN
METHOD:PUBLISH
X-WR-CALNAME:Max 93.1
X-ORIGINAL-URL:https://max931.ca
X-WR-CALDESC:Events for Max 93.1
BEGIN:VEVENT
DTSTART;TZID=America/Halifax:20190209T100000
DTEND;TZID=America/Halifax:20190209T100000
DTSTAMP:20260420T000318
CREATED:20190129T135508Z
LAST-MODIFIED:20190129T135508Z
UID:5461-1549706400-1549706400@max931.ca
SUMMARY:Emergency Animal Response Team Public Info Session
DESCRIPTION:Join us for a Public Information Session on Saturday\, February 9th at the Stratford Town Centre\, Shakespeare Avenue\, at 10:00 AM.\nLearn what we do and how we help PEI residents that may be displaced by events like house fires or major evacuations due to disasters like hurricanes.\nWorking in partnership with other emergency responders like the Red Cross\, Fire Departments and Police\, our specially trained volunteers rescue\, shelter and then re-unite pets and domestic livestock with their families during these stressful times.\nEART is a nationally registered non-profit organization\, 100% volunteer based.\nFor more info\, visit our website: www.emergencyanimalresponseteam.com\, or call 902-439-2262 \n
URL:https://max931.ca/event/emergency-animal-response-team-public-info-session/
END:VEVENT
END:VCALENDAR