BEGIN:VCALENDAR
VERSION:2.0
PRODID:-//Max 93.1 - ECPv4.6.26//NONSGML v1.0//EN
CALSCALE:GREGORIAN
METHOD:PUBLISH
X-WR-CALNAME:Max 93.1
X-ORIGINAL-URL:https://max931.ca
X-WR-CALDESC:Events for Max 93.1
BEGIN:VEVENT
DTSTART;TZID=America/Halifax:20230312T193000
DTEND;TZID=America/Halifax:20230312T213000
DTSTAMP:20260422T095855
CREATED:20230228T184309Z
LAST-MODIFIED:20230228T184324Z
UID:9605-1678649400-1678656600@max931.ca
SUMMARY:Festival Finale Concert
DESCRIPTION:Presented by Atlantic Lottery\, this is the Festival Finale concert featuring some of our top nominees of 2023!  Performances by Alicia Toner\, Cory Gallant & The Red Dirt Posse\, Lawrence Maxwell\, and Lennie Gallant. \nGet Tickets \n
URL:https://max931.ca/event/festival-finale-concert/
LOCATION:Do you enjoy Christmas as much as an adult as you did as a child?
ATTACH;FMTTYPE=image/png:https://max931.ca/wp-content/uploads/sites/23/2023/02/Festival-Finale-Concert.png
END:VEVENT
END:VCALENDAR