BEGIN:VCALENDAR
VERSION:2.0
PRODID:-//Max 93.1 - ECPv4.6.26//NONSGML v1.0//EN
CALSCALE:GREGORIAN
METHOD:PUBLISH
X-WR-CALNAME:Max 93.1
X-ORIGINAL-URL:https://max931.ca
X-WR-CALDESC:Events for Max 93.1
BEGIN:VEVENT
DTSTART;VALUE=DATE:20200314
DTEND;VALUE=DATE:20200315
DTSTAMP:20260419T194434
CREATED:20200211T203527Z
LAST-MODIFIED:20200211T203527Z
UID:7119-1584144000-1584230399@max931.ca
SUMMARY:Fundraiser for PEIACL
DESCRIPTION:PEI Association for Community Living’s third annual St Patrick’s Gala is set for Saturday\, March 14th at the Rodd Charlottetown. Guaranteed a great time with delicious food\, silent and live auction items to bid on\, and fantastic entertainment by Phase II\, this is a night you’ll not want to miss! Join us for an evening of fun and frivolity while we raise funds for PEIACL. Get your tickets now before they’re gone. For more information call 902-439-4607 or email executivedirector@peiacl.org \n
URL:https://max931.ca/event/fundraiser-for-peiacl/
END:VEVENT
END:VCALENDAR