BEGIN:VCALENDAR
VERSION:2.0
PRODID:-//Max 93.1 - ECPv4.6.26//NONSGML v1.0//EN
CALSCALE:GREGORIAN
METHOD:PUBLISH
X-WR-CALNAME:Max 93.1
X-ORIGINAL-URL:https://max931.ca
X-WR-CALDESC:Events for Max 93.1
BEGIN:VEVENT
DTSTART;TZID=America/Halifax:20181209T100000
DTEND;TZID=America/Halifax:20181209T160000
DTSTAMP:20260421T111900
CREATED:20181206T143658Z
LAST-MODIFIED:20181206T143658Z
UID:5244-1544349600-1544371200@max931.ca
SUMMARY:Indigenous Artisan Market
DESCRIPTION:The PEI First Nations communities invite everyone to a cultural event not to be missed! 30 local Indigenous artisans and a number of drumming groups will play throughout the day at Founders Hall from 10-4pm. \n
URL:https://max931.ca/event/indigenous-artisan-market/
END:VEVENT
END:VCALENDAR