BEGIN:VCALENDAR
VERSION:2.0
PRODID:-//Max 93.1 - ECPv4.6.26//NONSGML v1.0//EN
CALSCALE:GREGORIAN
METHOD:PUBLISH
X-WR-CALNAME:Max 93.1
X-ORIGINAL-URL:https://max931.ca
X-WR-CALDESC:Events for Max 93.1
BEGIN:VEVENT
DTSTART;TZID=America/Halifax:20200328T090000
DTEND;TZID=America/Halifax:20200328T120000
DTSTAMP:20260419T144431
CREATED:20200211T205200Z
LAST-MODIFIED:20200305T135924Z
UID:7127-1585386000-1585396800@max931.ca
SUMMARY:Indoor Yard Sale
DESCRIPTION:So have you begun your Spring cleaning and found some treasures that might look amazing in someone else’s house? The Murray Harbour Farmers Market and Friends are hosting an indoor yard sale where you can share those treasures with others. The sale will be held from 9AM to Noon on Saturday\, March 28\, 2020 at the Murray Harbour Community Centre in beautiful Murray Harbour\, PEI. There will be in excess of 15 sellers with everything your heart could possibly desire! \nWe are hoping to raise some funds for projects at our own Southern Kings Consolidated so a donation jar will be set up where shoppers can drop in a loonie to help with the cause! \n
URL:https://max931.ca/event/indoor-yard-sale/
END:VEVENT
END:VCALENDAR