BEGIN:VCALENDAR
VERSION:2.0
PRODID:-//Max 93.1 - ECPv4.6.26//NONSGML v1.0//EN
CALSCALE:GREGORIAN
METHOD:PUBLISH
X-WR-CALNAME:Max 93.1
X-ORIGINAL-URL:https://max931.ca
X-WR-CALDESC:Events for Max 93.1
BEGIN:VEVENT
DTSTART;VALUE=DATE:20210921
DTEND;VALUE=DATE:20210922
DTSTAMP:20260421T010315
CREATED:20200830T172736Z
LAST-MODIFIED:20210127T135405Z
UID:8124-1632182400-1632268799@max931.ca
SUMMARY:INTERNATIONAL DAY OF PEACE
DESCRIPTION: Each year the International Day of Peace is observed around the world on 21 September. The UN General Assembly has declared this as a day devoted to strengthening the ideals of peace\, through observing 24 hours of non-violence and cease-fire. \n
URL:https://max931.ca/event/international-day-of-peace/
CATEGORIES:Observances
ATTACH;FMTTYPE=image/jpeg:https://max931.ca/wp-content/uploads/sites/23/2021/01/37055127730_de38e63fcb_b.jpg
END:VEVENT
END:VCALENDAR