BEGIN:VCALENDAR
VERSION:2.0
PRODID:-//Max 93.1 - ECPv4.6.26//NONSGML v1.0//EN
CALSCALE:GREGORIAN
METHOD:PUBLISH
X-WR-CALNAME:Max 93.1
X-ORIGINAL-URL:https://max931.ca
X-WR-CALDESC:Events for Max 93.1
BEGIN:VEVENT
DTSTART;TZID=America/Halifax:20170428T180000
DTEND;TZID=America/Halifax:20170428T180000
DTSTAMP:20260421T124037
CREATED:20170417T143714Z
LAST-MODIFIED:20170417T143714Z
UID:884-1493402400-1493402400@max931.ca
SUMMARY:Island ComicCon
DESCRIPTION:Teens and adults are welcome to join in for Island ComicCon on April 28 at 6 p.m at Confederation Centre Public Library\, 145 Richmond Street\, Charlottetown. \nThere will be a panel discussion\, costume and drawing contest\, Lightning Bolt Comics and more! This is a free event but tickets must be picked up at Confederation Centre Public Library in advance. \n
URL:https://max931.ca/event/island-comiccon/
END:VEVENT
END:VCALENDAR