BEGIN:VCALENDAR
VERSION:2.0
PRODID:-//Max 93.1 - ECPv4.6.26//NONSGML v1.0//EN
CALSCALE:GREGORIAN
METHOD:PUBLISH
X-WR-CALNAME:Max 93.1
X-ORIGINAL-URL:https://max931.ca
X-WR-CALDESC:Events for Max 93.1
BEGIN:VEVENT
DTSTART;TZID=America/Halifax:20220820T080000
DTEND;TZID=America/Halifax:20220826T170000
DTSTAMP:20260420T001635
CREATED:20220725T140912Z
LAST-MODIFIED:20220725T140912Z
UID:9247-1660982400-1661533200@max931.ca
SUMMARY:Kensington Harvest Festival
DESCRIPTION:Contact Us:\n902-836-3509\ncgardens@pei.aibn.com\n  \nSaturday August 20\, 2022\nSponsored by Castle Building Supplies\n7:30 – 10:30 am    Shriner’s Pancake Breakfast\, Kensington Legion \n8:30 am                 49th Annual Malpeque Bay Credit Union 25km Foot Race\,\nStart at Church of Scotland\, Stanchel \n2:00 – 3:00 pm      Mammoth Street Parade – Theme: Farmers\, Celebrating our Roots!\n(in case of inclement weather\, Rain Date: Sunday at 2:00 PM) \n3:00 – 4:00 pm      BBQ – Credit Union Centre \n4:00 – 7:00 pm      Washer Toss Tournament | Free Mussels & Live Entertainment\nLocation: Kensington Legion – Sponsored by Shriners \n\nSunday August 21\, 2022 \nSponsored by Tim Hortons\n8:30 am                 Harvest Festival Golf Tournament\nSponsored by PE AQUA FARMS \n                              4 person Scramble- Eagles Glenn Golf Course $400.00 per team \n                              Includes Cart\, Green Fee and Meal. Prizes for everyone\nOn Course food and beverages Sponsored by Kensington Food Basket and\nShip to Shore Restaurant \n                              Prizes – Electric Lawn Mower (Sponsored by Kensington Country Store) &\nPropane BBQ (Sponsored by Castle Spring Valley Building Centre)\nLongest drive\, Closest to the Hole\, Straightest Shot\, Closest to the PE Aqua Farms Box\,\nClosest to the Kensington Food Basket Shopping Cart\, and more! \n                              To register email: Robert at cuc@kensington.ca \n\n9:30 am                 Ecumenical Service – Rev. Robert McCarthy\nLocation: Credit Union Centre – 25 Garden Drive \n  \nMonday August 22\, 2022 \nSponsored by Atlantic Lottery\n9:00 – 11:30 am    WI Vegetable Exhibit / WI Handicraft Exhibit Registration \n9:00 – 12:00 pm    Reg Hiltz Memorial Flower Show \n6:00 pm                 Flower Show Awards \n6:30 – 7:30 pm      Savour the Flavors Sampling \n6:30 pm                Opening Ceremonies\nSpecial Guest – Craig Savill\nClair Mayhew Volunteer of the Year Award Presentation \n7:00 pm                 Youth Ambassador – Talent Portion \n7:30 pm                 Youth Ambassador – Formal Portion \n8:00 pm                 Live Entertainment with Allison Blaquiere \n8:45 pm                 Youth Ambassador Winner Ceremony \n\nTuesday August 23\, 2022\nSponsored by Murphy’s Pharmacy & Building Blocs  \nFree Admission Night! Sponsored by Fun-Times Enterprises \n12:00 – 4:00 pm    Auction Card Party – Credit Union Centre\nSponsored by Murphy’s Pharmacy & Provincial Credit Union\nHosted by Kensington Lions Club \n4.00 – 8:30 pm      Skateboard Competition and Demo \n5:00 – 9:00 pm      Fry Wagon Fundraiser and BBQ Kensington Minor Ball \n6:00 – 8:30 pm      Minor Ball Double Header Ballfields \n6:00 – 8:30 pm      Softball Allstar Game and Skills Derby \n7:00 – 8:30 pm     PEI Youth Talent Competition (Credit Union Centre)\nSponsored by PEI Mutual \n  \nWednesday August 24\, 2022\nSponsored by Standard Aero & Cavendish Farms\n1:00 – 8:30 pm      3 on 3 Ball Hockey Tournament\n$50.00 per team  |  BBQ Included\nTeam Ages: 8-10 & 11-13\nTo register email: gyoung@kensington.ca \n\nFriday August 26\, 2022\nSponsored by Basin View Seafood\nTickets: $23.00 each |  Tables of 4\, 6\, 8 available\nReserve Tickets: 902-836-3509 or email gyoung@kensington.ca \n7:00 – 8:30 pm      Ultimate Fisher Challenge \n9:00 – 10:00 pm    Jimmy Flynn and Terry Kelly \n10:00 – 10:30 pm  Ultimate Fishers Challenge \n10:45 – 11:45 pm  Jimmy Flynn and Terry Kelly \n\nEvent Location: 25 Garden Drive\nCredit Union Centre\, Kensington \nDaily Admission Monday  \nFamily $15.00 \nAdult $7.00 \nSenior/Student $5.00 \nChildren under 10 $3.00 \nPreschool Free \nFor more information \nCall: 902-836-3509 \nVisit: www.kensington.ca\nEmail: cuc@kensington.ca \n
URL:https://max931.ca/event/kensington-harvest-festival/
CATEGORIES:Festivals
END:VEVENT
END:VCALENDAR