BEGIN:VCALENDAR
VERSION:2.0
PRODID:-//Max 93.1 - ECPv4.6.26//NONSGML v1.0//EN
CALSCALE:GREGORIAN
METHOD:PUBLISH
X-WR-CALNAME:Max 93.1
X-ORIGINAL-URL:https://max931.ca
X-WR-CALDESC:Events for Max 93.1
BEGIN:VEVENT
DTSTART;TZID=America/Halifax:20250305T090000
DTEND;TZID=America/Halifax:20250305T110000
DTSTAMP:20260420T064206
CREATED:20250225T141233Z
LAST-MODIFIED:20250225T141233Z
UID:10561-1741165200-1741172400@max931.ca
SUMMARY:Kiddie Olympics
DESCRIPTION:\n\n\n\n\n\n\n\n\n\n511 Notre Dame St\, Summerside\, PE C1N 1T2\, Canada\n\n\n\n\n\n\n\n\n\n\n\nDuration: 2 hr\n\n\n\n\n\n\n\n\n\n\n\n\n\n\n\n\n\n\n\nFamily Place’s Kiddie Olympics – FREEWednesdays 9:00-11:00 amCredit Union Place’s DOMEThe Dome at Credit Union Place\, 511 Notre Dame St\, Summerside\nBring your kiddies to the Dome for lots of gross motor fun! For children aged 1-5 years old & their parents & caregivers. Pre-registration is not required – just Drop In!\nTo register contact us at:Family Place\, 75 Central Street Summerside\, PE 902-436-1348\, fp@familyplacepei.comThis is a free program\, but we do welcome donations and can issue an official receipt. Registered Charity#139192496RR0001. Canada Helps:\n~~~\nFor more information or to learn about our other free programs and services please contact us:fp@familyplacepei.com| www.familyplacepei.com | www.facebook.com/familyplacepei | 902-436-1348\n\n\n
URL:https://max931.ca/event/kiddie-olympics/
ATTACH;FMTTYPE=image/jpeg:https://max931.ca/wp-content/uploads/sites/23/2025/02/kiddie-olymics.jpg
END:VEVENT
END:VCALENDAR