BEGIN:VCALENDAR
VERSION:2.0
PRODID:-//Max 93.1 - ECPv4.6.26//NONSGML v1.0//EN
CALSCALE:GREGORIAN
METHOD:PUBLISH
X-WR-CALNAME:Max 93.1
X-ORIGINAL-URL:https://max931.ca
X-WR-CALDESC:Events for Max 93.1
BEGIN:VEVENT
DTSTART;VALUE=DATE:20231201
DTEND;VALUE=DATE:20240101
DTSTAMP:20260424T124521
CREATED:20231030T180236Z
LAST-MODIFIED:20231030T180336Z
UID:9957-1701388800-1704067199@max931.ca
SUMMARY:Lights for Life
DESCRIPTION:Since 1995\, Lights for Life has been an important part of our community and an opportunity to remember and honour your loved ones. Dedications made before Nov. 18\, 2023 will be listed in our Lights for Life dedication booklet which will be available at the Prince County Hospital in early December. \nShows: Lights for Life will again have nightly shows Dec. 1 -31 at 6pm\, 7pm\, and 8pm. \nFind out more on the PCH website: https://pchcare.com/lights-for-life/ \n
URL:https://max931.ca/event/lights-for-life-4/
ATTACH;FMTTYPE=image/png:https://max931.ca/wp-content/uploads/sites/23/2023/10/Lights-for-Life-Web-Image-Max-93-2023.png
END:VEVENT
END:VCALENDAR