BEGIN:VCALENDAR
VERSION:2.0
PRODID:-//Max 93.1 - ECPv4.6.26//NONSGML v1.0//EN
CALSCALE:GREGORIAN
METHOD:PUBLISH
X-WR-CALNAME:Max 93.1
X-ORIGINAL-URL:https://max931.ca
X-WR-CALDESC:Events for Max 93.1
BEGIN:VEVENT
DTSTART;TZID=America/Halifax:20190415T000000
DTEND;TZID=America/Halifax:20190415T120000
DTSTAMP:20260422T131641
CREATED:20190326T135503Z
LAST-MODIFIED:20190326T135503Z
UID:5689-1555286400-1555329600@max931.ca
SUMMARY:Matthew Murphy memorial Fisherman's breakfast
DESCRIPTION:Every year the first day of fishing season we host a Fisherman’s Breakfast at the Kensington Legion in New Haven. It starts at 12am right through to 12pm for all the anglers who are out in the cold that day. My brother was big into fishing and at the young age of 19 he committed suicide. We host the breakfast in his memory and the money we raise we donate to the PEI Mental Health. \n
URL:https://max931.ca/event/matthew-murphy-memorial-fishermans-breakfast/
END:VEVENT
END:VCALENDAR