BEGIN:VCALENDAR
VERSION:2.0
PRODID:-//Max 93.1 - ECPv4.6.26//NONSGML v1.0//EN
CALSCALE:GREGORIAN
METHOD:PUBLISH
X-WR-CALNAME:Max 93.1
X-ORIGINAL-URL:https://max931.ca
X-WR-CALDESC:Events for Max 93.1
BEGIN:VEVENT
DTSTART;VALUE=DATE:20190508
DTEND;VALUE=DATE:20190509
DTSTAMP:20260419T121646
CREATED:20190506T192349Z
LAST-MODIFIED:20190506T192356Z
UID:5943-1557273600-1557359999@max931.ca
SUMMARY:McHappy Day!
DESCRIPTION:On Wednesday May 8\, for every Big Mac®\, Happy Meal® or hot McCafé® beverage purchased\, $1 will be donated to RMHC® and children’s charities across Canada. Join us on Wednesday May 8\, 2019 to help families when they need it the most. \n
URL:https://max931.ca/event/mchappy-day/
CATEGORIES:Fundraiser
END:VEVENT
END:VCALENDAR