BEGIN:VCALENDAR
VERSION:2.0
PRODID:-//Max 93.1 - ECPv4.6.26//NONSGML v1.0//EN
CALSCALE:GREGORIAN
METHOD:PUBLISH
X-WR-CALNAME:Max 93.1
X-ORIGINAL-URL:https://max931.ca
X-WR-CALDESC:Events for Max 93.1
BEGIN:VEVENT
DTSTART;TZID=America/Halifax:20191029T183000
DTEND;TZID=America/Halifax:20191029T193000
DTSTAMP:20260422T112244
CREATED:20191003T134137Z
LAST-MODIFIED:20191003T134137Z
UID:6484-1572373800-1572377400@max931.ca
SUMMARY:Mi'kmaq Campfire Tales
DESCRIPTION:Tuesday\, October 29⋅6:30 – 7:30 p.m.\nMi’kmaq Campfire Tales with Poet-Laureate Julie Pellissier-Lush\nJoin us for an evening of storytelling with P.E.I. Poet-Laureate Julie Pellissier-Lush. Julie will share Mi’kmaq campfire tales from the past\nConfederation Centre Public Library \n
URL:https://max931.ca/event/mikmaq-campfire-tales/
END:VEVENT
END:VCALENDAR