BEGIN:VCALENDAR
VERSION:2.0
PRODID:-//Max 93.1 - ECPv4.6.26//NONSGML v1.0//EN
CALSCALE:GREGORIAN
METHOD:PUBLISH
X-WR-CALNAME:Max 93.1
X-ORIGINAL-URL:https://max931.ca
X-WR-CALDESC:Events for Max 93.1
BEGIN:VEVENT
DTSTART;TZID=America/Halifax:20200215T190000
DTEND;TZID=America/Halifax:20200215T190000
DTSTAMP:20260422T095703
CREATED:20200211T204556Z
LAST-MODIFIED:20200211T204556Z
UID:7121-1581793200-1581793200@max931.ca
SUMMARY:Music fundraiser
DESCRIPTION:“Crazy in Love” cabaret with Sirens\nThe Guild\, 111 Queen St\, Charlottetown\nSat. Feb. 15\, 2020 at 7:00 pm \nSirens’ fundraising cabaret evening is back by popular demand! “Crazy in Love” will be a departure from the usual Sirens concert with folk\, rock\, jazz\, and musical theatre tunes\, as well as a silent auction with items from local businesses and artisans. \nThis event often sells out\, so if you plan to treat your sweetheart\, be sure reserve your spot early. Tickets for this event are $30 and are available online at www.sirenschoir.com/concerts or at the door. \n
URL:https://max931.ca/event/music-fundraiser/
END:VEVENT
END:VCALENDAR