BEGIN:VCALENDAR
VERSION:2.0
PRODID:-//Max 93.1 - ECPv4.6.26//NONSGML v1.0//EN
CALSCALE:GREGORIAN
METHOD:PUBLISH
X-WR-CALNAME:Max 93.1
X-ORIGINAL-URL:https://max931.ca
X-WR-CALDESC:Events for Max 93.1
BEGIN:VEVENT
DTSTART;VALUE=DATE:20170124
DTEND;VALUE=DATE:20170125
DTSTAMP:20260424T105754
CREATED:20170208T201938Z
LAST-MODIFIED:20170208T201938Z
UID:622-1485216000-1485302399@max931.ca
SUMMARY:New Ways with Winter Vegetables
DESCRIPTION:\n\n\nThe Community of Miltonvale Park is hosting a healthy eating presentation “New Ways with Winter Vegetables” with home economist Margaret Prouse on Tuesday\, January 24\, beginning at 6:30 p.m. at the Milton Community Hall. Admission is free for Miltonvale Park residents aged 50+ and by donation for others. Please pre-register at 902 368-3090 or admin@miltonvalepark.com by Friday\, January 20. \nThe Milton Community Hall is located at 7 New Glasgow Road-Rte 224 where it intersects with Rte. 7 in North Milton.\n \n\n\n\n  \n  \n
URL:https://max931.ca/event/new-ways-with-winter-vegetables/
END:VEVENT
END:VCALENDAR