BEGIN:VCALENDAR
VERSION:2.0
PRODID:-//Max 93.1 - ECPv4.6.26//NONSGML v1.0//EN
CALSCALE:GREGORIAN
METHOD:PUBLISH
X-WR-CALNAME:Max 93.1
X-ORIGINAL-URL:https://max931.ca
X-WR-CALDESC:Events for Max 93.1
BEGIN:VEVENT
DTSTART;TZID=America/Halifax:20190414T100000
DTEND;TZID=America/Halifax:20190414T130000
DTSTAMP:20260423T101419
CREATED:20190318T140013Z
LAST-MODIFIED:20190318T140013Z
UID:5657-1555236000-1555246800@max931.ca
SUMMARY:North Rustico All You Can Eat Buffet Brunch
DESCRIPTION:Get together with your family and friends for a delicious buffet brunch between 10 a.m. and 1 p.m. on Sunday\, April 14\, at the North Rustico Lions Club\, 17 Timber Lane in North Rustico. Advance tickets are available at the club bar: $14 for adults\, $10 for children\, and free for children five years and under. Tickets at the door will be $16 for adults\, and $12 for children. This is a fundraising project of the North Rustico Lions Club for the QEH/Eastlink Telethon\, and will support the purchase of priority medical equipment for the QEH. For more information\, call 902-963-2533 \n
URL:https://max931.ca/event/north-rustico-all-you-can-eat-buffet-brunch/
END:VEVENT
END:VCALENDAR