BEGIN:VCALENDAR
VERSION:2.0
PRODID:-//Max 93.1 - ECPv4.6.26//NONSGML v1.0//EN
CALSCALE:GREGORIAN
METHOD:PUBLISH
X-WR-CALNAME:Max 93.1
X-ORIGINAL-URL:https://max931.ca
X-WR-CALDESC:Events for Max 93.1
BEGIN:VEVENT
DTSTART;TZID=America/Halifax:20181208T090000
DTEND;TZID=America/Halifax:20181208T090000
DTSTAMP:20260421T141733
CREATED:20181206T142934Z
LAST-MODIFIED:20181206T142934Z
UID:5242-1544259600-1544259600@max931.ca
SUMMARY:North Shore Girl Guides Cookie Sale
DESCRIPTION:The North Shore Girl Guide Unit will be selling their delicious Mint Cookies at the Confederation Court mall this Saturday December 8th\, 9am until they are gone. We are the last Girl Guide Unit in P.E.I. with our famous mint cookies. So don’t miss out they wont be back till next fall. I also heard Santa will be at the mall that day and Santa said he Loves our Mint cookies. Come see us at the Kiosk by the Stairs. Last Chance for Cookies \n
URL:https://max931.ca/event/north-shore-girl-guides-cookie-sale/
END:VEVENT
END:VCALENDAR