BEGIN:VCALENDAR
VERSION:2.0
PRODID:-//Max 93.1 - ECPv4.6.26//NONSGML v1.0//EN
CALSCALE:GREGORIAN
METHOD:PUBLISH
X-WR-CALNAME:Max 93.1
X-ORIGINAL-URL:https://max931.ca
X-WR-CALDESC:Events for Max 93.1
BEGIN:VEVENT
DTSTART;TZID=America/Halifax:20190110T190000
DTEND;TZID=America/Halifax:20190110T190000
DTSTAMP:20260421T111344
CREATED:20181227T130559Z
LAST-MODIFIED:20181227T130559Z
UID:5329-1547146800-1547146800@max931.ca
SUMMARY:Open Mic Night
DESCRIPTION:Singers\, musicians and poets are invited to share their talents at this Open Mic for adults and teens. Register at the Circulation Desk from 6:30 p.m. to 7:00 p.m.\nDate and Time: Thursday\, January 10 at 7:00 p.m. \nLocation: Confederation Centre Public Library 145 Richmond Street\, Charlottetown \nContact: Minerva Gamble-Hardy at 902-368-4642 \n
URL:https://max931.ca/event/open-mic-night/
END:VEVENT
END:VCALENDAR