BEGIN:VCALENDAR
VERSION:2.0
PRODID:-//Max 93.1 - ECPv4.6.26//NONSGML v1.0//EN
CALSCALE:GREGORIAN
METHOD:PUBLISH
X-WR-CALNAME:Max 93.1
X-ORIGINAL-URL:https://max931.ca
X-WR-CALDESC:Events for Max 93.1
BEGIN:VEVENT
DTSTART;TZID=America/Halifax:20190420T100000
DTEND;TZID=America/Halifax:20190420T143000
DTSTAMP:20260422T170213
CREATED:20190416T170350Z
LAST-MODIFIED:20190416T170350Z
UID:5827-1555754400-1555770600@max931.ca
SUMMARY:Passion Elite Cheer - Fries & Pop!
DESCRIPTION:Passion Elite Cheer is at Sobeys Allen st. this Saturday 10am-230pm selling fries and pop by donation from the Cavendish farms fry truck \n
URL:https://max931.ca/event/passion-elite-cheer-fries-pop/
END:VEVENT
END:VCALENDAR