BEGIN:VCALENDAR
VERSION:2.0
PRODID:-//Max 93.1 - ECPv4.6.26//NONSGML v1.0//EN
CALSCALE:GREGORIAN
METHOD:PUBLISH
X-WR-CALNAME:Max 93.1
X-ORIGINAL-URL:https://max931.ca
X-WR-CALDESC:Events for Max 93.1
BEGIN:VEVENT
DTSTART;TZID=America/Halifax:20190425T190000
DTEND;TZID=America/Halifax:20190425T190000
DTSTAMP:20260424T122134
CREATED:20190416T172940Z
LAST-MODIFIED:20190416T172940Z
UID:5843-1556218800-1556218800@max931.ca
SUMMARY:PEI Invasive Species Presentation
DESCRIPTION:Prince Edward Island has several Invasive Species\, and some are found in PEI National Park. This presentation discussed the innovative and collaborative approaches being taken to monitor and manage Invasive Species\, and what we can all do to help.\nThursday\, April 25 at 7:00 p.m.\nConfederation Centre Public Library \n
URL:https://max931.ca/event/pei-invasive-species-presentation/
END:VEVENT
END:VCALENDAR