BEGIN:VCALENDAR
VERSION:2.0
PRODID:-//Max 93.1 - ECPv4.6.26//NONSGML v1.0//EN
CALSCALE:GREGORIAN
METHOD:PUBLISH
X-WR-CALNAME:Max 93.1
X-ORIGINAL-URL:https://max931.ca
X-WR-CALDESC:Events for Max 93.1
BEGIN:VEVENT
DTSTART;TZID=America/Halifax:20200314T080000
DTEND;TZID=America/Halifax:20200314T200000
DTSTAMP:20260419T180122
CREATED:20200309T180322Z
LAST-MODIFIED:20200309T180322Z
UID:7186-1584172800-1584216000@max931.ca
SUMMARY:Pie Day at Ocean Acres
DESCRIPTION:Saturday March 14th from 8am-8pm The Deck Restaurant at Ocean Acres in Murray Harbour will be selling 12 different type of Pie\, Meat Handpies\, Pizzas and more! A portion of the proceeds going to support the Southern Kings Consolidated Grade 8 Graduation Party. 902 962 3913 www.oceanacres.ca \n
URL:https://max931.ca/event/pie-day-at-ocean-acres/
END:VEVENT
END:VCALENDAR