BEGIN:VCALENDAR
VERSION:2.0
PRODID:-//Max 93.1 - ECPv4.6.26//NONSGML v1.0//EN
CALSCALE:GREGORIAN
METHOD:PUBLISH
X-WR-CALNAME:Max 93.1
X-ORIGINAL-URL:https://max931.ca
X-WR-CALDESC:Events for Max 93.1
BEGIN:VEVENT
DTSTART;TZID=America/Halifax:20181207T193000
DTEND;TZID=America/Halifax:20181207T193000
DTSTAMP:20260421T153718
CREATED:20181119T181230Z
LAST-MODIFIED:20181119T181230Z
UID:5120-1544211000-1544211000@max931.ca
SUMMARY:Sorensen Family Christmas Concert
DESCRIPTION:On Friday\, December 7\, 2018\, at 7:30 pm\, the annual Sorensen Family Christmas Concert\, “The Shepherds Were the First to Hear”\, will be held at the South Shore United Church\, #85 Route 10 in Tryon. Lunch and a time for Christmas socializing will take place after the concert. Admission is a freewill offering in support of the Church Building Fund. For more information please call 902-658-2009. \n
URL:https://max931.ca/event/sorensen-family-christmas-concert/
CATEGORIES:Concerts
END:VEVENT
END:VCALENDAR