BEGIN:VCALENDAR
VERSION:2.0
PRODID:-//Max 93.1 - ECPv4.6.26//NONSGML v1.0//EN
CALSCALE:GREGORIAN
METHOD:PUBLISH
X-WR-CALNAME:Max 93.1
X-ORIGINAL-URL:https://max931.ca
X-WR-CALDESC:Events for Max 93.1
BEGIN:VEVENT
DTSTART;TZID=America/Halifax:20181209T140000
DTEND;TZID=America/Halifax:20181209T140000
DTSTAMP:20260421T142509
CREATED:20181126T133332Z
LAST-MODIFIED:20181126T133332Z
UID:5163-1544364000-1544364000@max931.ca
SUMMARY:St. Paul's Church Memorial Carol Service
DESCRIPTION:1-½ hours of sing-along Advent and Christmas hymns plus some performed pieces.\nPut the name of a fondly remembered person on a star for the memorial tree and in the keepsake programme ($10 donation – deadline Dec 4). The contributions go toward maintaining the 1936 Cassavant organ.\nInformation: 902-892-1691\, stpauls@pei.aibn.com\, www.stpaulschurch.ca \n
URL:https://max931.ca/event/st-pauls-church-memorial-carol-service/
END:VEVENT
END:VCALENDAR