BEGIN:VCALENDAR
VERSION:2.0
PRODID:-//Max 93.1 - ECPv4.6.26//NONSGML v1.0//EN
CALSCALE:GREGORIAN
METHOD:PUBLISH
X-WR-CALNAME:Max 93.1
X-ORIGINAL-URL:https://max931.ca
X-WR-CALDESC:Events for Max 93.1
BEGIN:VEVENT
DTSTART;TZID=America/Halifax:20210823T190000
DTEND;TZID=America/Halifax:20210823T190000
DTSTAMP:20260422T095937
CREATED:20210818T161252Z
LAST-MODIFIED:20210818T161252Z
UID:8695-1629745200-1629745200@max931.ca
SUMMARY:Summer series Ceilidh
DESCRIPTION:Summer series Ceilidh at Winsloe Lions Hall\, Monday August 23 starting at 7:00 pm\, featuring special guests the Langille Boys\, Sam and Brian\, and  Jacinta MacDonald they will be joined by Brian Knox and Judy Lowe. \nThere is a 50/50 draw and canteen service.   The hall is wheel chair accessible. \nDoors open at 6:00 pm with seating capacity for 100.    You can call 902-940-1217 or 902-894-9901 if you wish to reserve your ticket. \n
URL:https://max931.ca/event/summer-series-ceilidh-3/
END:VEVENT
END:VCALENDAR