BEGIN:VCALENDAR
VERSION:2.0
PRODID:-//Max 93.1 - ECPv4.6.26//NONSGML v1.0//EN
CALSCALE:GREGORIAN
METHOD:PUBLISH
X-WR-CALNAME:Max 93.1
X-ORIGINAL-URL:https://max931.ca
X-WR-CALDESC:Events for Max 93.1
BEGIN:VEVENT
DTSTART;TZID=America/Halifax:20190526T190000
DTEND;TZID=America/Halifax:20190526T190000
DTSTAMP:20260423T114542
CREATED:20190507T115546Z
LAST-MODIFIED:20190507T115546Z
UID:5945-1558897200-1558897200@max931.ca
SUMMARY:Summerside Community Concert in Hunter River
DESCRIPTION:Central Queens United Church\, Hunter River\, is excited to host the Summerside Community Choir on Sun.\, May 26 at 7:00 p.m. The choir’s spring concert is titled\, “The Singing Heart” and will feature music from Verdi to popular Cape Breton songs. Also participating will be stars from the 2019 Music Festival. Admission: $12 at the door with light refreshments served. Doors open at 6:30 p.m \n
URL:https://max931.ca/event/summerside-community-concert-in-hunter-river/
END:VEVENT
END:VCALENDAR