BEGIN:VCALENDAR
VERSION:2.0
PRODID:-//Max 93.1 - ECPv4.6.26//NONSGML v1.0//EN
CALSCALE:GREGORIAN
METHOD:PUBLISH
X-WR-CALNAME:Max 93.1
X-ORIGINAL-URL:https://max931.ca
X-WR-CALDESC:Events for Max 93.1
BEGIN:VEVENT
DTSTART;TZID=America/Halifax:20190515T153000
DTEND;TZID=America/Halifax:20190515T180000
DTSTAMP:20260423T115640
CREATED:20190425T143610Z
LAST-MODIFIED:20190425T143610Z
UID:5885-1557934200-1557943200@max931.ca
SUMMARY:Take Out Lobster Supper
DESCRIPTION:Take Out Lobster Supper at Park Royal United Church on Wednesday\, May 15 from 3:30 – 6:00 pm. Tickets are $25 and available from UCW members or from Church Office at 902-894-9656 \n
URL:https://max931.ca/event/take-out-lobster-supper/
END:VEVENT
END:VCALENDAR