BEGIN:VCALENDAR
VERSION:2.0
PRODID:-//Max 93.1 - ECPv4.6.26//NONSGML v1.0//EN
CALSCALE:GREGORIAN
METHOD:PUBLISH
X-WR-CALNAME:Max 93.1
X-ORIGINAL-URL:https://max931.ca
X-WR-CALDESC:Events for Max 93.1
BEGIN:VEVENT
DTSTART;TZID=America/Halifax:20170503T103000
DTEND;TZID=America/Halifax:20170503T103000
DTSTAMP:20260421T153824
CREATED:20170427T144537Z
LAST-MODIFIED:20170427T144537Z
UID:964-1493807400-1493807400@max931.ca
SUMMARY:The Newcomer Experience--A One Book One Island Program
DESCRIPTION:One Book One Island has returned to PEI libraries. This year’s selected book\, Ru by Kim Thúy\, features the themes of immigration and the re-telling of personal experiences. On May 3\, at 10:30 a.m. the Confederation Centre Public Library will celebrate OBOI and the newcomer experience. Join us at the library to hear personal experiences of newcomers and enjoy videos from the Canadian Museum of Immigration’s digital storytelling gallery that tell stories of the diverse immigration experience. \n
URL:https://max931.ca/event/the-newcomer-experience-a-one-book-one-island-program/
END:VEVENT
END:VCALENDAR