BEGIN:VCALENDAR
VERSION:2.0
PRODID:-//Max 93.1 - ECPv4.6.26//NONSGML v1.0//EN
CALSCALE:GREGORIAN
METHOD:PUBLISH
X-WR-CALNAME:Max 93.1
X-ORIGINAL-URL:https://max931.ca
X-WR-CALDESC:Events for Max 93.1
BEGIN:VEVENT
DTSTART;VALUE=DATE:20250627
DTEND;VALUE=DATE:20250702
DTSTAMP:20260422T100034
CREATED:20250624T120636Z
LAST-MODIFIED:20250624T120657Z
UID:10806-1750982400-1751414399@max931.ca
SUMMARY:Tignish Irish Moss Festival
DESCRIPTION:  \nTHIS IS A FUN FESTIVAL SPANNING THE LAST WEEK OF JUNE INTO JULY! \nALL DETAILS CAN BE FOUND HERE: \n(3) Facebook \n
URL:https://max931.ca/event/tignish-irish-moss-festival/
CATEGORIES:Festivals
ATTACH;FMTTYPE=image/jpeg:https://max931.ca/wp-content/uploads/sites/23/2025/06/USE.jpeg
END:VEVENT
END:VCALENDAR