BEGIN:VCALENDAR
VERSION:2.0
PRODID:-//Max 93.1 - ECPv4.6.26//NONSGML v1.0//EN
CALSCALE:GREGORIAN
METHOD:PUBLISH
X-WR-CALNAME:Max 93.1
X-ORIGINAL-URL:https://max931.ca
X-WR-CALDESC:Events for Max 93.1
BEGIN:VEVENT
DTSTART;TZID=America/Halifax:20190519T193000
DTEND;TZID=America/Halifax:20190519T193000
DTSTAMP:20260425T131917
CREATED:20190503T134945Z
LAST-MODIFIED:20190503T134945Z
UID:5927-1558294200-1558294200@max931.ca
SUMMARY:Tribute to Lady Singers of our Century
DESCRIPTION: \n
URL:https://max931.ca/event/tribute-to-lady-singers-of-our-century/
END:VEVENT
END:VCALENDAR