BEGIN:VCALENDAR
VERSION:2.0
PRODID:-//Max 93.1 - ECPv4.6.26//NONSGML v1.0//EN
CALSCALE:GREGORIAN
METHOD:PUBLISH
X-WR-CALNAME:Max 93.1
X-ORIGINAL-URL:https://max931.ca
X-WR-CALDESC:Events for Max 93.1
BEGIN:VEVENT
DTSTART;TZID=America/Halifax:20210717T090000
DTEND;TZID=America/Halifax:20210717T130000
DTSTAMP:20260419T222439
CREATED:20210712T122516Z
LAST-MODIFIED:20210712T122516Z
UID:8597-1626512400-1626526800@max931.ca
SUMMARY:Upper Room Food Drive Thru
DESCRIPTION:The Upper Room is having a Food Drive Drive Thru\, Saturday July 17th from 9:00 am-1:00 pm at Sobeys on Allen Street. \n
URL:https://max931.ca/event/upper-room-food-drive-thru/
END:VEVENT
END:VCALENDAR