BEGIN:VCALENDAR
VERSION:2.0
PRODID:-//Max 93.1 - ECPv4.6.26//NONSGML v1.0//EN
CALSCALE:GREGORIAN
METHOD:PUBLISH
X-WR-CALNAME:Max 93.1
X-ORIGINAL-URL:https://max931.ca
X-WR-CALDESC:Events for Max 93.1
BEGIN:VEVENT
DTSTART;TZID=America/Halifax:20190526T130000
DTEND;TZID=America/Halifax:20190526T130000
DTSTAMP:20260424T093135
CREATED:20190521T131020Z
LAST-MODIFIED:20190521T131020Z
UID:6009-1558875600-1558875600@max931.ca
SUMMARY:Walk for Dogs
DESCRIPTION:The Summerside Lions will be hosting Walk for Dogs on Sunday May 26th at the boardwalk in Summerside from 1pm. There will be pledge sheets and donations will be accepted\, also you can donate online at…walkfordogguides.com….All proceeds will go to help train guide dogs. \n
URL:https://max931.ca/event/walk-for-dogs/
END:VEVENT
END:VCALENDAR