BEGIN:VCALENDAR
VERSION:2.0
PRODID:-//Max 93.1 - ECPv4.6.26//NONSGML v1.0//EN
CALSCALE:GREGORIAN
METHOD:PUBLISH
X-WR-CALNAME:Max 93.1
X-ORIGINAL-URL:https://max931.ca
X-WR-CALDESC:Events for Max 93.1
BEGIN:VEVENT
DTSTART;TZID=America/Halifax:20200224T193000
DTEND;TZID=America/Halifax:20200224T193000
DTSTAMP:20260420T010022
CREATED:20200214T125704Z
LAST-MODIFIED:20200214T125704Z
UID:7133-1582572600-1582572600@max931.ca
SUMMARY:Winsloe United Church Winter Series Ceilidh
DESCRIPTION:Winsloe United Church Winter Series Ceilidh\, Monday Feb 24\, starting at 7:30 p.m.    Admission is $10 at the door with doors opening at 6:30 p.m.\nHost Colleen MacPhee will be joined on stage by two very popular entertainers\,  the duo team of Keelin Wedge and Eddy Quinn.   Also taking the stage for she first appearance at Winsloe Ceilidh will be Sarah\, performed by the funny lady Barb Perry. \n
URL:https://max931.ca/event/winsloe-united-church-winter-series-ceilidh-2/
END:VEVENT
END:VCALENDAR