BEGIN:VCALENDAR
VERSION:2.0
PRODID:-//Max 93.1 - ECPv4.6.26//NONSGML v1.0//EN
CALSCALE:GREGORIAN
METHOD:PUBLISH
X-WR-CALNAME:Max 93.1
X-ORIGINAL-URL:https://max931.ca
X-WR-CALDESC:Events for Max 93.1
BEGIN:VEVENT
DTSTART;TZID=America/Halifax:20250222T120000
DTEND;TZID=America/Halifax:20250223T160000
DTSTAMP:20260422T083421
CREATED:20250219T140140Z
LAST-MODIFIED:20250219T140140Z
UID:10546-1740225600-1740326400@max931.ca
SUMMARY:Winter Field Of Fun
DESCRIPTION:Join us at Kool Breeze Farms to experience two days of exciting winter activities at our Field-of-Fun!\nThis family fun zone will have all sorts of activities to enjoy featuring:– Sledding – bring you own or sign one out. (Free)– Snow Painting (Free)– Lexie’s Hobby Farm – weather pending (Free)– Sleigh ride (Saturday Feb 22nd – will go on for 3 hrs. Free).– Wagon ride (Sunday Feb 23rd – Free)– Warm up stations equipped with heaters\, fire pits and chairs. (Free)– Hot chocolate (available by the winter field-of-fun $) and other fun winter treats (available at the garden centre $)\nProudly sponsored by Atlantic Lottery!\n#AtlanticLotteryCommunityProud #FiertéCommunautaireLotoAtl#WinterWarmthFestival #ExploreSummerside #CityByTheSea \nSee less\n\n
URL:https://max931.ca/event/winter-field-of-fun/
ATTACH;FMTTYPE=image/jpeg:https://max931.ca/wp-content/uploads/sites/23/2025/02/winter-warmth.jpg
END:VEVENT
END:VCALENDAR