BEGIN:VCALENDAR
VERSION:2.0
PRODID:-//Max 93.1 - ECPv4.6.26//NONSGML v1.0//EN
CALSCALE:GREGORIAN
METHOD:PUBLISH
X-WR-CALNAME:Max 93.1
X-ORIGINAL-URL:https://max931.ca
X-WR-CALDESC:Events for Max 93.1
BEGIN:VEVENT
DTSTART;TZID=America/Halifax:20190525T080000
DTEND;TZID=America/Halifax:20190525T120000
DTSTAMP:20260421T111935
CREATED:20190524T140654Z
LAST-MODIFIED:20190524T140654Z
UID:6047-1558771200-1558785600@max931.ca
SUMMARY:Yard Sale
DESCRIPTION:10 Juniper Dr. Sherwood \n
URL:https://max931.ca/event/yard-sale/
END:VEVENT
END:VCALENDAR